BEGIN:VCALENDAR
VERSION:2.0
PRODID:-//Tukios.com/
BEGIN:VEVENT
UID:f9a535e1-2707-426a-8153-c1dc212e8ce2@www.reynolds-jonkhoff.com
DTSTAMP:20260420T230102Z
DTSTART:20260423T200000Z
DTEND:20260423T230000Z
SUMMARY:Visitation
DESCRIPTION:
URL:https://www.reynolds-jonkhoff.com/obituaries/karen-krawczyk
LOCATION: 305 Sixth St  Traverse City MI 49684
GEO:44.7613504;-85.6265641
END:VEVENT
END:VCALENDAR