BEGIN:VCALENDAR
VERSION:2.0
PRODID:-//Tukios.com/
BEGIN:VEVENT
UID:1bc5ed81-85e1-42b2-ad57-42b695840a26@www.reynolds-jonkhoff.com
DTSTAMP:20260420T230342Z
DTSTART:20260424T150000Z
DTEND:20260424T160000Z
SUMMARY:Funeral Service
DESCRIPTION:
URL:https://www.reynolds-jonkhoff.com/obituaries/karen-krawczyk
LOCATION: 305 Sixth St  Traverse City MI 49684
GEO:44.7613504;-85.6265641
END:VEVENT
END:VCALENDAR