BEGIN:VCALENDAR
VERSION:2.0
PRODID:-//Tukios.com/
BEGIN:VEVENT
UID:e2e6632a-ae62-4c4a-93d3-5fc36745f1ee@www.reynolds-jonkhoff.com
DTSTAMP:20260421T185103Z
DTSTART:20260426T180000Z
DTEND:20260426T190000Z
SUMMARY:Visitation
DESCRIPTION:
URL:https://www.reynolds-jonkhoff.com/obituaries/mary-ryan
LOCATION:New Hope Church 5100 Bethesda Court  Williamsburg MI 49690
GEO:44.8071668;-85.4754323
END:VEVENT
END:VCALENDAR