BEGIN:VCALENDAR
VERSION:2.0
PRODID:-//Tukios.com/
BEGIN:VEVENT
UID:4ac62eed-7c8f-40a0-b754-e0426c63f24b@www.reynolds-jonkhoff.com
DTSTAMP:20260421T185103Z
DTSTART:20260426T190000Z
DTEND:20260426T200000Z
SUMMARY:Funeral Service
DESCRIPTION:
URL:https://www.reynolds-jonkhoff.com/obituaries/mary-ryan
LOCATION:New Hope Church 5100 Bethesda Court  Williamsburg MI 49690
GEO:44.8071668;-85.4754323
END:VEVENT
END:VCALENDAR