BEGIN:VCALENDAR
VERSION:2.0
PRODID:-//Tukios.com/
BEGIN:VEVENT
UID:3394cba2-79e7-4d2e-a630-64b53b8f9919@www.reynolds-jonkhoff.com
DTSTAMP:20260423T221046Z
DTSTART:20260430T200000Z
DTEND:20260430T230000Z
SUMMARY:Celebration of Life
DESCRIPTION:
URL:https://www.reynolds-jonkhoff.com/obituaries/minor-mike-meide
LOCATION:Traverse City Golf and Country Club 1725 S. Union Street  
	Traverse City MI 49684
GEO:44.7466891;-85.6218343
END:VEVENT
END:VCALENDAR