BEGIN:VCALENDAR
VERSION:2.0
PRODID:-//Tukios.com/
BEGIN:VEVENT
UID:f0cd22c3-2de3-4f40-babf-77d4751e7f89@www.reynolds-jonkhoff.com
DTSTAMP:20260425T202224Z
DTSTART:20260427T210000Z
DTEND:20260427T230000Z
SUMMARY:Visitation
DESCRIPTION:
URL:https://www.reynolds-jonkhoff.com/obituaries/myrna-stricker
LOCATION:Reynolds Jonkhoff Funeral Home 305 Sixth Street  Traverse City 
	MI 49684
GEO:44.7613504;-85.6265641
END:VEVENT
END:VCALENDAR