BEGIN:VCALENDAR
VERSION:2.0
PRODID:-//Tukios.com/
BEGIN:VEVENT
UID:cd4a7392-1b7e-4175-acae-f6839d217a6b@www.reynolds-jonkhoff.com
DTSTAMP:20260425T202029Z
DTSTART:20260430T170000Z
DTEND:20260430T180000Z
SUMMARY:Interment
DESCRIPTION:
URL:https://www.reynolds-jonkhoff.com/obituaries/myrna-stricker
LOCATION:Oakwood Cemetery East Eighth Street  Traverse City MI 49686
GEO:44.7584407;-85.589008
END:VEVENT
END:VCALENDAR