BEGIN:VCALENDAR
VERSION:2.0
PRODID:-//Tukios.com/
BEGIN:VEVENT
UID:a77553b2-2d39-4da8-905c-c033420f3ae4@www.reynolds-jonkhoff.com
DTSTAMP:20260425T201815Z
DTSTART:20260429T150000Z
DTEND:20260429T160000Z
SUMMARY:Mass
DESCRIPTION:
URL:https://www.reynolds-jonkhoff.com/obituaries/myrna-stricker
LOCATION: 603 South West Silver Lake Road  Traverse City MI 49685
GEO:44.6771205;-85.6918479
END:VEVENT
END:VCALENDAR