BEGIN:VCALENDAR
VERSION:2.0
PRODID:-//Tukios.com/
BEGIN:VEVENT
UID:016a7ef2-21e9-4c15-bd88-a5dc19d0b1e5@www.reynolds-jonkhoff.com
DTSTAMP:20260420T203855Z
DTSTART:20260530T180000Z
DTEND:20260530T210000Z
SUMMARY:Celebration of Life
DESCRIPTION:
URL:https://www.reynolds-jonkhoff.com/obituaries/robert-baynton
LOCATION:Rolling Hills Antiques Barn 5085 Barney Road  Traverse City MI 
	49684
GEO:44.765628;-85.6763126
END:VEVENT
END:VCALENDAR