BEGIN:VCALENDAR
VERSION:2.0
PRODID:-//Tukios.com/
BEGIN:VEVENT
UID:b3b80a8f-9358-42ee-a69f-94c37fd929ec@www.reynolds-jonkhoff.com
DTSTAMP:20260423T190648Z
DTSTART:20260425T150000Z
DTEND:20260425T160000Z
SUMMARY:Mass of Christian Burial
DESCRIPTION:
URL:https://www.reynolds-jonkhoff.com/obituaries/zachary-bickmann
LOCATION:Sacred Heart of Jesus Catholic Church 143 Charles  Elk Rapids MI 
	49629
GEO:44.8969452;-85.3980176
END:VEVENT
END:VCALENDAR