BEGIN:VCALENDAR
VERSION:2.0
PRODID:-//Tukios.com/
BEGIN:VEVENT
UID:0c5d154c-7b2b-4f16-adf7-5147f617df53@www.reynolds-jonkhoff.com
DTSTAMP:20260423T190945Z
DTSTART:20260425T140000Z
DTEND:20260425T150000Z
SUMMARY:Visitation
DESCRIPTION:
URL:https://www.reynolds-jonkhoff.com/obituaries/zachary-bickmann
LOCATION:Sacred Heart of Jesus Catholic Church 143 Charles  Elk Rapids MI 
	49629
GEO:44.8969452;-85.3980176
END:VEVENT
END:VCALENDAR