BEGIN:VCALENDAR
VERSION:2.0
PRODID:-//Tukios.com/
BEGIN:VEVENT
UID:adf1bb8a-91cb-4c1f-a255-7443d92490c1@www.reynolds-jonkhoff.com
DTSTAMP:20260423T191124Z
DTSTART:20260502T140000Z
DTEND:20260502T150000Z
SUMMARY:Visitation
DESCRIPTION:
URL:https://www.reynolds-jonkhoff.com/obituaries/zachary-bickmann
LOCATION:St Irenaeus Catholic Church 771 Old Perch Rd  Rochester Hills MI 
	48309
GEO:42.6692844;-83.1712646
END:VEVENT
END:VCALENDAR