BEGIN:VCALENDAR
VERSION:2.0
PRODID:-//Tukios.com/
BEGIN:VEVENT
UID:92ffa0ac-3b12-41b9-adf7-a3ef87b56fb0@www.reynolds-jonkhoff.com
DTSTAMP:20260423T191005Z
DTSTART:20260502T150000Z
DTEND:20260502T160000Z
SUMMARY:Mass of Remembrance
DESCRIPTION:
URL:https://www.reynolds-jonkhoff.com/obituaries/zachary-bickmann
LOCATION:St Irenaeus Catholic Church 771 Old Perch Rd  Rochester Hills MI 
	48309
GEO:42.6692844;-83.1712646
END:VEVENT
END:VCALENDAR